BEGIN:VCALENDAR
VERSION:2.0
PRODID:-//wp-events-plugin.com//7.2.3.1//EN
TZID:Europe/Berlin
X-WR-TIMEZONE:Europe/Berlin
BEGIN:VEVENT
UID:391@volleyball-leinfelden.de
DTSTART;TZID=Europe/Berlin:20181021T160000
DTEND;TZID=Europe/Berlin:20181021T180000
DTSTAMP:20180812T130001Z
URL:https://volleyball-leinfelden.de/events/tsv-bernhausen-herren-3/
SUMMARY:TSV Bernhausen - Herren 3
DESCRIPTION:
CATEGORIES:Herren 3,Spieltag,Spieltag Herren 3
LOCATION:Sporthalle Eduard-Spranger-Gymnasium\, Tübinger Str. 73\, Filders
 tadt-Bernhausen\, 70794\, Deutschland
GEO:48.66949;9.211689999999976
X-APPLE-STRUCTURED-LOCATION;VALUE=URI;X-ADDRESS=Tübinger Str. 73\, Filders
 tadt-Bernhausen\, 70794\, Deutschland;X-APPLE-RADIUS=100;X-TITLE=Sporthall
 e Eduard-Spranger-Gymnasium:geo:48.66949,9.211689999999976
END:VEVENT
BEGIN:VTIMEZONE
TZID:Europe/Berlin
X-LIC-LOCATION:Europe/Berlin
BEGIN:DAYLIGHT
DTSTART:20180325T030000
TZOFFSETFROM:+0100
TZOFFSETTO:+0200
TZNAME:CEST
END:DAYLIGHT
END:VTIMEZONE
END:VCALENDAR